BEGIN:VCALENDAR
METHOD:PUBLISH
PRODID:Data::ICal 0.13
VERSION:2.0
BEGIN:VEVENT
DESCRIPTION:DaBaby Live Show Killa Tour\nSun • Jan 09, 2022 • 8:00 PM\nEchostage, Washington, DC\n\nTickets on sale now
DTSTAMP:20260419T200643Z
DTSTART;TZID=America/New_York:20220109T200000
DTEND;TZID=America/New_York:20220109T220000
LOCATION:2135 Queens Chapel Rd NE\, Washington\, DC\, 20018
SUMMARY:DaBaby Live Show Killa Tour at Echostage
UID:4345067-1641758400-1641765600
END:VEVENT
END:VCALENDAR
