BEGIN:VCALENDAR
METHOD:PUBLISH
PRODID:Data::ICal 0.13
VERSION:2.0
BEGIN:VEVENT
DESCRIPTION:This Wednesday is another edition of Girl Talk Live sponsored by The University of Maryland Capital Region Health! Ladies, if you leak a little when you laugh or sneeze, have discomfort during sex, or just feel like something is a little off, this conversation is for you. Jackie Paige is speaking with Dr. Briana Walton, board-certified OB/GYN and female pelvic medicine &amp; reconstructive surgeon and the director of female pelvic medicine with UM Capital Region Health. Tune into Girl Talk Live this Wednesday at 6pm on Facebook, Youtube and KYSDC.com!\n\n&nbsp;\n\nhttps://www.youtube.com/watch?v=-NjaFBuuNjQ
DTSTAMP:20260419T200756Z
DTSTART;TZID=America/New_York:20210630T180000
DTEND;TZID=America/New_York:20210630T183000
LOCATION:
SUMMARY:Girl Talk Live With Jackie Paige Presented by University of Maryland Capital Region Health
UID:4223947-1625076000-1625077800
END:VEVENT
END:VCALENDAR
