BEGIN:VCALENDAR
METHOD:PUBLISH
PRODID:Data::ICal 0.13
VERSION:2.0
BEGIN:VEVENT
DESCRIPTION:SAVE THE DATE! On March 18th from 6:30-7:30 p.m. you can join us and the Maryland Department of Health for a COVID-19 vaccine virtual town hall. Watch LIVE on YouTube, Facebook and KYSDC.com!\n\nThis one-hour virtual town hall meeting provides answers to questions related to the COVID-19 virus and the vaccines that were developed to stop its spread. Find out what the COVID-19 virus is, how vaccines were developed, how they were tested, how they work, and current distribution plans that address healthcare disparities.\n\nhttps://www.youtube.com/watch?v=nKmskZcHJk0\n\n&nbsp;
DTSTAMP:20260421T010252Z
DTSTART;TZID=America/New_York:20210318T183000
DTEND;TZID=America/New_York:20210318T193000
LOCATION:
SUMMARY:GOVax: Let&#8217;s End Covid, Maryland &#8211; Virtual Town Hall
UID:4147709-1616092200-1616095800
END:VEVENT
END:VCALENDAR
