BEGIN:VCALENDAR
METHOD:PUBLISH
PRODID:Data::ICal 0.13
VERSION:2.0
BEGIN:VEVENT
DESCRIPTION:[caption id=&quot;attachment_3562580&quot; align=&quot;aligncenter&quot; width=&quot;1024&quot;] Source: CS / CS[/caption]\nUse Promo Code earlybird at check out for $10 off general admission ticket. Limited time! \nDinner &amp; seating are not included with General Admission tickets, show only.
DTSTAMP:20260423T083645Z
DTSTART;TZID=America/New_York:20170214T190000
DTEND;TZID=America/New_York:20170214T220000
LOCATION:
SUMMARY:Love In The City With Raheem DeVaughn &amp; More
UID:3562581-1487098800-1487109600
END:VEVENT
END:VCALENDAR
