BEGIN:VCALENDAR
METHOD:PUBLISH
PRODID:Data::ICal 0.13
VERSION:2.0
BEGIN:VEVENT
DESCRIPTION:[caption id=&quot;attachment_3554891&quot; align=&quot;aligncenter&quot; width=&quot;790&quot;] Source: Bliss Night Club / Bliss Night Club[/caption]
DTSTAMP:20260425T123457Z
DTSTART;TZID=America/New_York:20170121T220000
DTEND;TZID=America/New_York:20170122T030000
LOCATION:2122 24TH Pl NE\, Washington\, Washington\, DC\, 20018
SUMMARY:Migos Live at Bliss Night Club
UID:3554904-1485036000-1485054000
END:VEVENT
END:VCALENDAR
