BEGIN:VCALENDAR
METHOD:PUBLISH
PRODID:Data::ICal 0.13
VERSION:2.0
BEGIN:VEVENT
DESCRIPTION:February is National Teen Dating Violence Month. Did you know unhealthy relationships can start early and last a lifetime? Come, learn and be a part of the virtual conversation on Thursday, February 10, at 6:30pm on Facebook, YouTube and KYSDC.com!\n\nThere will be a panel discussion with teens. Log on to pgxtremeteens.com for more information #controlisnotlove.\n\nBrought to you by the Prince George’s County Department Of Family Services and MNCPPC XTREME TEENS.\n\nhttps://www.youtube.com/watch?v=uYIbxNRs8l0\n\n&nbsp;\n\n&nbsp;
DTSTAMP:20260425T222417Z
DTSTART;TZID=America/New_York:20220210T183000
DTEND;TZID=America/New_York:20220210T203000
LOCATION:
SUMMARY:Prince George&#8217;s County 2022 No Excuse For Dating Abuse Teen Summit
UID:4411909-1644517800-1644525000
END:VEVENT
END:VCALENDAR
