BEGIN:VCALENDAR
METHOD:PUBLISH
PRODID:Data::ICal 0.13
VERSION:2.0
BEGIN:VEVENT
DESCRIPTION:You asked for it—and now it’s here.&nbsp;Set It Off Live, presented by&nbsp;Je&#039;Caryous Johnson, brings the beloved&nbsp;cult&nbsp;classic to life in a bold, electrifying stage adaptation. 



Starring&nbsp;Felicia Pearson—widely recognized as “Snoop” from&nbsp;The Wire—this reimagined production delivers gripping performances, raw emotion, and unforgettable intensity. 



Experience the power, the passion, and the story that redefined a generation—now live on stage at the&nbsp;Warner Theatre&nbsp;in Washington,&nbsp;DC, April 24 and 25, with tickets and more information available at&nbsp;SetItOffLive.com.
DTSTAMP:20260423T015240Z
DTSTART;TZID=America/New_York:20260424T110727
DTEND;TZID=America/New_York:20260425T110727
LOCATION:513 13th St NW Washington\, DC 20004
SUMMARY:SET IT OFF LIVE TAKES OVER D.C.
UID:5714523-1777028847-1777115247
END:VEVENT
END:VCALENDAR
