BEGIN:VCALENDAR
METHOD:PUBLISH
PRODID:Data::ICal 0.13
VERSION:2.0
BEGIN:VEVENT
DESCRIPTION:Tecca Loves You Tour.  Lil Tecca with special guests BabySantana, Bktherula yvngxchris April 4, 2022 Echostage. Get tickets now at Livenation
DTSTAMP:20260425T105726Z
DTSTART;TZID=America/New_York:20220404T200000
DTEND;TZID=America/New_York:20220404T230000
LOCATION:Echostage\, 2135 Queens Chapel Rd NE\, Washington\, DC\, 20018
SUMMARY:Tecca Loves You Tour &#8211; April 4, 2022, Echostage presented by LiveNation
UID:4318774-1649102400-1649113200
END:VEVENT
END:VCALENDAR
