BEGIN:VCALENDAR
METHOD:PUBLISH
PRODID:Data::ICal 0.13
VERSION:2.0
BEGIN:VEVENT
DESCRIPTION:The entries are in, and now it&#039;s time to hit the stage!   Check out the best of the best this Monday night at 7pm as they battle it out LIVE on FB, YouTube and KYSDC.COM in the QuickSilva Show &quot;Got Talent Contest.&quot;   Who&#039;s the most talented in Baltimore and DC?   Find out Monday at 7pm!  Presented by The Maryland State Department of Education - #TeachInMaryland\n\n&nbsp;\n\nhttps://www.youtube.com/watch?v=lzock9R341A\n\n&nbsp;
DTSTAMP:20260425T103516Z
DTSTART;TZID=America/New_York:20210726T190000
DTEND;TZID=America/New_York:20210726T200000
LOCATION:
SUMMARY:The QuickSilva Show “Got Talent” Contest Presented by #TeachInMaryland
UID:4231036-1627326000-1627329600
END:VEVENT
END:VCALENDAR
