BEGIN:VCALENDAR
METHOD:PUBLISH
PRODID:Data::ICal 0.13
VERSION:2.0
BEGIN:VEVENT
DESCRIPTION:It’s often said music is life’s great narrator. Join Quicksilva and Guest DJ Mike Swift Wednesday, Dec 8th at 7:30pm for a conversation exploring the moments that helped shape their careers - and highlight the people today who are making &quot;new moments.&quot;\n\nWatch LIVE on Facebook, YouTube and here on KYSDC.com\n\nPresented by REMY MARTIN. TEAM UP FOR EXCELLENCE\n\nMUST BE 21+, PLEASE DRINK RESPONSIBLY.\nREMY MARTIN CONGAC FINE CHAMPAGNE. FORTY PERCENT ALCOHOL BY VOLUME. IMPORTED BY REMY COINTREAU U-S-A INC. NEW YORK, NEW YORK.\n\nhttps://www.youtube.com/watch?v=daF20rEnsMI
DTSTAMP:20260419T200445Z
DTSTART;TZID=America/New_York:20211208T193000
DTEND;TZID=America/New_York:20211208T200000
LOCATION:
SUMMARY:Top Shelf &#8211; Presented by Remy Martin
UID:4326829-1638991800-1638993600
END:VEVENT
END:VCALENDAR
